BEGIN:VCALENDAR
VERSION:2.0
PRODID:-//MFSV Trebur e.V. - ECPv6.15.20//NONSGML v1.0//EN
CALSCALE:GREGORIAN
METHOD:PUBLISH
X-ORIGINAL-URL:https://www.mfsv-trebur.de
X-WR-CALDESC:Veranstaltungen für MFSV Trebur e.V.
REFRESH-INTERVAL;VALUE=DURATION:PT1H
X-Robots-Tag:noindex
X-PUBLISHED-TTL:PT1H
BEGIN:VTIMEZONE
TZID:Europe/Berlin
BEGIN:DAYLIGHT
TZOFFSETFROM:+0100
TZOFFSETTO:+0200
TZNAME:CEST
DTSTART:20250330T010000
END:DAYLIGHT
BEGIN:STANDARD
TZOFFSETFROM:+0200
TZOFFSETTO:+0100
TZNAME:CET
DTSTART:20251026T010000
END:STANDARD
BEGIN:DAYLIGHT
TZOFFSETFROM:+0100
TZOFFSETTO:+0200
TZNAME:CEST
DTSTART:20260329T010000
END:DAYLIGHT
BEGIN:STANDARD
TZOFFSETFROM:+0200
TZOFFSETTO:+0100
TZNAME:CET
DTSTART:20261025T010000
END:STANDARD
BEGIN:DAYLIGHT
TZOFFSETFROM:+0100
TZOFFSETTO:+0200
TZNAME:CEST
DTSTART:20270328T010000
END:DAYLIGHT
BEGIN:STANDARD
TZOFFSETFROM:+0200
TZOFFSETTO:+0100
TZNAME:CET
DTSTART:20271031T010000
END:STANDARD
END:VTIMEZONE
BEGIN:VEVENT
DTSTART;TZID=Europe/Berlin:20261017T100000
DTEND;TZID=Europe/Berlin:20261017T170000
DTSTAMP:20260419T174837
CREATED:20260116T070046Z
LAST-MODIFIED:20260116T175029Z
UID:2482-1792231200-1792256400@www.mfsv-trebur.de
SUMMARY:Retro - "Zurück zur Basis"
DESCRIPTION:
URL:https://www.mfsv-trebur.de/event/vereinswettbewerb-zurueck-zur-basis
LOCATION:Vereinsgelände MFSV Trebur e.V.\, Trebur
CATEGORIES:Vereinstermine
ATTACH;FMTTYPE=image/jpeg:https://www.mfsv-trebur.de/wp-content/uploads/2018/09/20180930-Wettbewerb-Holzklasse11.jpg
END:VEVENT
BEGIN:VEVENT
DTSTART;TZID=Europe/Berlin:20261031T140000
DTEND;TZID=Europe/Berlin:20261031T170000
DTSTAMP:20260419T174837
CREATED:20260116T070043Z
LAST-MODIFIED:20260116T175202Z
UID:319-1793455200-1793466000@www.mfsv-trebur.de
SUMMARY:Abfliegen der Saison
DESCRIPTION:Bitte eigenes Geschirr und Besteck mitbringen.
URL:https://www.mfsv-trebur.de/event/abfliegen-der-saison
LOCATION:Vereinsgelände MFSV Trebur e.V.\, Trebur
CATEGORIES:Vereinstermine
ATTACH;FMTTYPE=image/jpeg:https://www.mfsv-trebur.de/wp-content/uploads/2018/09/8S4B3420-3.jpg
END:VEVENT
END:VCALENDAR