BEGIN:VCALENDAR
VERSION:2.0
PRODID:-//MFSV Trebur e.V. - ECPv6.15.20//NONSGML v1.0//EN
CALSCALE:GREGORIAN
METHOD:PUBLISH
X-ORIGINAL-URL:https://www.mfsv-trebur.de
X-WR-CALDESC:Veranstaltungen für MFSV Trebur e.V.
REFRESH-INTERVAL;VALUE=DURATION:PT1H
X-Robots-Tag:noindex
X-PUBLISHED-TTL:PT1H
BEGIN:VTIMEZONE
TZID:Europe/Berlin
BEGIN:DAYLIGHT
TZOFFSETFROM:+0100
TZOFFSETTO:+0200
TZNAME:CEST
DTSTART:20250330T010000
END:DAYLIGHT
BEGIN:STANDARD
TZOFFSETFROM:+0200
TZOFFSETTO:+0100
TZNAME:CET
DTSTART:20251026T010000
END:STANDARD
BEGIN:DAYLIGHT
TZOFFSETFROM:+0100
TZOFFSETTO:+0200
TZNAME:CEST
DTSTART:20260329T010000
END:DAYLIGHT
BEGIN:STANDARD
TZOFFSETFROM:+0200
TZOFFSETTO:+0100
TZNAME:CET
DTSTART:20261025T010000
END:STANDARD
BEGIN:DAYLIGHT
TZOFFSETFROM:+0100
TZOFFSETTO:+0200
TZNAME:CEST
DTSTART:20270328T010000
END:DAYLIGHT
BEGIN:STANDARD
TZOFFSETFROM:+0200
TZOFFSETTO:+0100
TZNAME:CET
DTSTART:20271031T010000
END:STANDARD
END:VTIMEZONE
BEGIN:VEVENT
DTSTART;VALUE=DATE:20260918
DTEND;VALUE=DATE:20260921
DTSTAMP:20260419T161748
CREATED:20260116T070019Z
LAST-MODIFIED:20260316T195812Z
UID:3099-1789689600-1789948799@www.mfsv-trebur.de
SUMMARY:TW Helikopter-DM (F3C/F3N)
DESCRIPTION:Bitte eigenes Geschirr und Besteck mitbringen.
URL:https://www.mfsv-trebur.de/event/f3c-hubschrauber-trainingslager
LOCATION:Vereinsgelände MFSV Trebur e.V.\, Trebur
CATEGORIES:Vereinstermine
ATTACH;FMTTYPE=image/jpeg:https://www.mfsv-trebur.de/wp-content/uploads/2020/10/2020-Abfliegen49-scaled.jpg
END:VEVENT
BEGIN:VEVENT
DTSTART;VALUE=DATE:20260926
DTEND;VALUE=DATE:20260928
DTSTAMP:20260419T161748
CREATED:20260116T070020Z
LAST-MODIFIED:20260116T174824Z
UID:3655-1790380800-1790553599@www.mfsv-trebur.de
SUMMARY:Doppeldecker Fly-Out
DESCRIPTION:
URL:https://www.mfsv-trebur.de/event/doppeldecker-fly-out
LOCATION:Vereinsgelände MFSV Trebur e.V.\, Trebur
CATEGORIES:Vereinstermine
ATTACH;FMTTYPE=image/jpeg:https://www.mfsv-trebur.de/wp-content/uploads/2024/08/2024-07-13-MFSV-Trebur-50Jahre-Set-395.jpg
END:VEVENT
END:VCALENDAR