BEGIN:VCALENDAR
VERSION:2.0
PRODID:-//MFSV Trebur e.V. - ECPv6.15.20//NONSGML v1.0//EN
CALSCALE:GREGORIAN
METHOD:PUBLISH
X-ORIGINAL-URL:https://www.mfsv-trebur.de
X-WR-CALDESC:Veranstaltungen für MFSV Trebur e.V.
REFRESH-INTERVAL;VALUE=DURATION:PT1H
X-Robots-Tag:noindex
X-PUBLISHED-TTL:PT1H
BEGIN:VTIMEZONE
TZID:Europe/Berlin
BEGIN:DAYLIGHT
TZOFFSETFROM:+0100
TZOFFSETTO:+0200
TZNAME:CEST
DTSTART:20250330T010000
END:DAYLIGHT
BEGIN:STANDARD
TZOFFSETFROM:+0200
TZOFFSETTO:+0100
TZNAME:CET
DTSTART:20251026T010000
END:STANDARD
BEGIN:DAYLIGHT
TZOFFSETFROM:+0100
TZOFFSETTO:+0200
TZNAME:CEST
DTSTART:20260329T010000
END:DAYLIGHT
BEGIN:STANDARD
TZOFFSETFROM:+0200
TZOFFSETTO:+0100
TZNAME:CET
DTSTART:20261025T010000
END:STANDARD
BEGIN:DAYLIGHT
TZOFFSETFROM:+0100
TZOFFSETTO:+0200
TZNAME:CEST
DTSTART:20270328T010000
END:DAYLIGHT
BEGIN:STANDARD
TZOFFSETFROM:+0200
TZOFFSETTO:+0100
TZNAME:CET
DTSTART:20271031T010000
END:STANDARD
END:VTIMEZONE
BEGIN:VEVENT
DTSTART;TZID=Europe/Berlin:20261205T173000
DTEND;TZID=Europe/Berlin:20261205T230000
DTSTAMP:20260421T120128
CREATED:20260116T070043Z
LAST-MODIFIED:20260116T190320Z
UID:3105-1796491800-1796511600@www.mfsv-trebur.de
SUMMARY:Weihnachtsfeier
DESCRIPTION:
URL:https://www.mfsv-trebur.de/event/jahresabschlussfeier
LOCATION:Restaurant Eigenheim\, Trebur\, Astheimer Str. 55\, Trebur\, Hessen\, 65468\, Germany
CATEGORIES:Vereinstermine
ATTACH;FMTTYPE=image/jpeg:https://www.mfsv-trebur.de/wp-content/uploads/2022/12/2022-Weihnachtsfeiern1-scaled-e1768590188536.jpg
END:VEVENT
END:VCALENDAR