BEGIN:VCALENDAR
VERSION:2.0
PRODID:-//MFSV Trebur e.V. - ECPv6.15.20//NONSGML v1.0//EN
CALSCALE:GREGORIAN
METHOD:PUBLISH
X-ORIGINAL-URL:https://www.mfsv-trebur.de
X-WR-CALDESC:Veranstaltungen für MFSV Trebur e.V.
REFRESH-INTERVAL;VALUE=DURATION:PT1H
X-Robots-Tag:noindex
X-PUBLISHED-TTL:PT1H
BEGIN:VTIMEZONE
TZID:Europe/Berlin
BEGIN:DAYLIGHT
TZOFFSETFROM:+0100
TZOFFSETTO:+0200
TZNAME:CEST
DTSTART:20250330T010000
END:DAYLIGHT
BEGIN:STANDARD
TZOFFSETFROM:+0200
TZOFFSETTO:+0100
TZNAME:CET
DTSTART:20251026T010000
END:STANDARD
BEGIN:DAYLIGHT
TZOFFSETFROM:+0100
TZOFFSETTO:+0200
TZNAME:CEST
DTSTART:20260329T010000
END:DAYLIGHT
BEGIN:STANDARD
TZOFFSETFROM:+0200
TZOFFSETTO:+0100
TZNAME:CET
DTSTART:20261025T010000
END:STANDARD
BEGIN:DAYLIGHT
TZOFFSETFROM:+0100
TZOFFSETTO:+0200
TZNAME:CEST
DTSTART:20270328T010000
END:DAYLIGHT
BEGIN:STANDARD
TZOFFSETFROM:+0200
TZOFFSETTO:+0100
TZNAME:CET
DTSTART:20271031T010000
END:STANDARD
END:VTIMEZONE
BEGIN:VEVENT
DTSTART;TZID=Europe/Berlin:20260815T140000
DTEND;TZID=Europe/Berlin:20260815T235900
DTSTAMP:20260419T155730
CREATED:20260116T070031Z
LAST-MODIFIED:20260116T182514Z
UID:3103-1786802400-1786838340@www.mfsv-trebur.de
SUMMARY:Sommerfest
DESCRIPTION:Bitte eigenes Geschirr und Besteck mitbringen.
URL:https://www.mfsv-trebur.de/event/segler-schlepp-max-300-m
LOCATION:Vereinsgelände MFSV Trebur e.V.\, Trebur
CATEGORIES:Vereinstermine
ATTACH;FMTTYPE=image/jpeg:https://www.mfsv-trebur.de/wp-content/uploads/2024/08/2024-07-13-MFSV-Trebur-50Jahre-Set-259.jpg
END:VEVENT
END:VCALENDAR